BEGIN:VCALENDAR
METHOD:PUBLISH
VERSION:2.0
CALSCALE:GREGORIAN
PRODID:-//NONSGML WPForms//NONSGML Sugar Calendar Feeds v3.10.0//EN
X-WR-CALNAME:Franchi Trophy Round 1
X-WR-CALDESC:Swanston Golf Club
X-WR-TIMEZONE:Europe/London
BEGIN:VTIMEZONE
TZID:Europe/London
BEGIN:DAYLIGHT
TZOFFSETFROM:+0000
TZOFFSETTO:+0100
DTSTART:20250330T010000
TZNAME:BST
END:DAYLIGHT
END:VTIMEZONE
BEGIN:VTIMEZONE
TZID:Europe/London
BEGIN:DAYLIGHT
TZOFFSETFROM:+0000
TZOFFSETTO:+0100
DTSTART:20250330T010000
TZNAME:BST
END:DAYLIGHT
END:VTIMEZONE
BEGIN:VEVENT
SUMMARY:Franchi Trophy Round 1
DESCRIPTION:FRANCHI TROPHY - 1ST ROUND SCORES\n\nFRANCHI TROPHY 1st ROUN
 D GROSS SCORES\n\nBased on members availability for the A\, A Plate and 
 B Section match play stages click HERE to see the position after the fir
 st round\nThere are 20 places available between the A and A Plate sectio
 ns with 19 players available and there's 16 places available in the B Se
 ction with 17 players in with a chance of qualifying.\nSo please\, every
 one avoid a N0 Return tomorrow.\nThe Club are aware of the weather forec
 ast for Monday especially the high winds. \nAll qualifiers involved in 
 match play ties are expected to turn up as the ties are currently schedu
 led. \nIf the course is unplayable before any matches start ties will b
 e played the following day (Tuesday) (see timings)\nIf any of the ties s
 tart and play is abandoned\, then players should complete the hole they 
 are playing and return the following day (Tuesday) and re-commence play 
 from where they finished on Monday. \nIf the Club have not abandoned pl
 ay but both players in a match agree between themselves to “call it a 
 day” they may stop play however must complete their match on Tuesday.
 \nThe rescheduling\, if necessary\, will only affect the qualifiers in 
 the A and A Plate section as the B Section Championship\, last 16 ties a
 re scheduled to be played Monday and Tuesday. 
URL;VALUE=URI:https://swanstongolf.co.uk/events/franchi-trophy-round-1-2
 /
UID:urn:uuid:ae427140-bd45-47aa-94ad-aff754ac435f
STATUS:CONFIRMED
ORGANIZER:
DTSTAMP:20260423T153741Z
DTSTART;TZID=Europe/London:20250802T073000
DTEND;TZID=Europe/London:20250802T140000
END:VEVENT
END:VCALENDAR